BEGIN:VCALENDAR
VERSION:2.0
PRODID:-//Newland Parish Council//Meeting Calendar//EN
CALSCALE:GREGORIAN
METHOD:PUBLISH
BEGIN:VEVENT
UID:70535-20251015@newland-pc.gov.uk
DTSTAMP:20260423T101955Z
DTSTART;VALUE=DATE:20251015
DTEND;VALUE=DATE:20251016
SUMMARY:Council Meeting &#8211\\; 15 October 2025
DESCRIPTION:Full Council Meeting\nView details: https://newland-pc.gov.uk/meetings/council-meeting-15-october-2025/
URL:https://newland-pc.gov.uk/meetings/council-meeting-15-october-2025/
END:VEVENT
END:VCALENDAR
