BEGIN:VCALENDAR
VERSION:2.0
PRODID:-//Newland Parish Council//Meeting Calendar//EN
CALSCALE:GREGORIAN
METHOD:PUBLISH
BEGIN:VEVENT
UID:70538-20250929@newland-pc.gov.uk
DTSTAMP:20260423T115130Z
DTSTART;VALUE=DATE:20250929
DTEND;VALUE=DATE:20250930
SUMMARY:Council Meeting &#8211\\; 29 September 2025
DESCRIPTION:Full Council Meeting\nView details: https://newland-pc.gov.uk/meetings/council-meeting-29-september-2025/
URL:https://newland-pc.gov.uk/meetings/council-meeting-29-september-2025/
END:VEVENT
END:VCALENDAR
