BEGIN:VCALENDAR
VERSION:2.0
PRODID:-//Newland Parish Council//Meeting Calendar//EN
CALSCALE:GREGORIAN
METHOD:PUBLISH
BEGIN:VEVENT
UID:70541-20250916@newland-pc.gov.uk
DTSTAMP:20260423T115058Z
DTSTART;VALUE=DATE:20250916
DTEND;VALUE=DATE:20250917
SUMMARY:Council Meeting &#8211\\; 16 September 2025
DESCRIPTION:Full Council Meeting\nView details: https://newland-pc.gov.uk/meetings/council-meeting-16-september-2025/
URL:https://newland-pc.gov.uk/meetings/council-meeting-16-september-2025/
END:VEVENT
END:VCALENDAR
