BEGIN:VCALENDAR
VERSION:2.0
PRODID:-//Newland Parish Council//Meeting Calendar//EN
CALSCALE:GREGORIAN
METHOD:PUBLISH
BEGIN:VEVENT
UID:70544-20250819@newland-pc.gov.uk
DTSTAMP:20260423T115058Z
DTSTART;VALUE=DATE:20250819
DTEND;VALUE=DATE:20250820
SUMMARY:Council Meeting &#8211\\; 19 August 2025
DESCRIPTION:Full Council Meeting\nView details: https://newland-pc.gov.uk/meetings/council-meeting-19-august-2025/
URL:https://newland-pc.gov.uk/meetings/council-meeting-19-august-2025/
END:VEVENT
END:VCALENDAR
