BEGIN:VCALENDAR
VERSION:2.0
PRODID:-//Newland Parish Council//Meeting Calendar//EN
CALSCALE:GREGORIAN
METHOD:PUBLISH
BEGIN:VEVENT
UID:70547-20250715@newland-pc.gov.uk
DTSTAMP:20260423T133312Z
DTSTART;VALUE=DATE:20250715
DTEND;VALUE=DATE:20250716
SUMMARY:Council Meeting &#8211\\; 15 July 2025
DESCRIPTION:Full Council Meeting\nView details: https://newland-pc.gov.uk/meetings/council-meeting-15-july-2025/
URL:https://newland-pc.gov.uk/meetings/council-meeting-15-july-2025/
END:VEVENT
END:VCALENDAR
