BEGIN:VCALENDAR
VERSION:2.0
PRODID:-//Newland Parish Council//Meeting Calendar//EN
CALSCALE:GREGORIAN
METHOD:PUBLISH
BEGIN:VEVENT
UID:70556-20250224@newland-pc.gov.uk
DTSTAMP:20260423T133731Z
DTSTART;VALUE=DATE:20250224
DTEND;VALUE=DATE:20250225
SUMMARY:Council Meeting &#8211\\; 24 February 2025
DESCRIPTION:Full Council Meeting\nView details: https://newland-pc.gov.uk/meetings/council-meeting-24-february-2025/
URL:https://newland-pc.gov.uk/meetings/council-meeting-24-february-2025/
END:VEVENT
END:VCALENDAR
