BEGIN:VCALENDAR
VERSION:2.0
PRODID:-//Newland Parish Council//Meeting Calendar//EN
CALSCALE:GREGORIAN
METHOD:PUBLISH
BEGIN:VEVENT
UID:70562-20220517@newland-pc.gov.uk
DTSTAMP:20260423T134049Z
DTSTART;VALUE=DATE:20220517
DTEND;VALUE=DATE:20220518
SUMMARY:Annual Council Meeting &#8211\\; 17 May 2022
DESCRIPTION:Annual Parish Meeting\nView details: https://newland-pc.gov.uk/meetings/annual-council-meeting-17-may-2022/
URL:https://newland-pc.gov.uk/meetings/annual-council-meeting-17-may-2022/
END:VEVENT
END:VCALENDAR
