BEGIN:VCALENDAR
VERSION:2.0
PRODID:-//Newland Parish Council//Meeting Calendar//EN
CALSCALE:GREGORIAN
METHOD:PUBLISH
BEGIN:VEVENT
UID:70565-20210506@newland-pc.gov.uk
DTSTAMP:20260423T121227Z
DTSTART;VALUE=DATE:20210506
DTEND;VALUE=DATE:20210507
SUMMARY:Annual Council Meeting &#8211\\; 6 May 2021
DESCRIPTION:Annual Parish Meeting\nView details: https://newland-pc.gov.uk/meetings/annual-council-meeting-6-may-2021/
URL:https://newland-pc.gov.uk/meetings/annual-council-meeting-6-may-2021/
END:VEVENT
END:VCALENDAR
