BEGIN:VCALENDAR
VERSION:2.0
PRODID:-//Newland Parish Council//Meeting Calendar//EN
CALSCALE:GREGORIAN
METHOD:PUBLISH
BEGIN:VEVENT
UID:70634-20260120@newland-pc.gov.uk
DTSTAMP:20260423T083606Z
DTSTART;VALUE=DATE:20260120
DTEND;VALUE=DATE:20260121
SUMMARY:Parish Council meeting 20th January 2026
DESCRIPTION:Full Council Meeting\nView details: https://newland-pc.gov.uk/meetings/meeting-name-here/
URL:https://newland-pc.gov.uk/meetings/meeting-name-here/
END:VEVENT
END:VCALENDAR
