BEGIN:VCALENDAR
VERSION:2.0
PRODID:-//Newland Parish Council//Meeting Calendar//EN
CALSCALE:GREGORIAN
METHOD:PUBLISH
BEGIN:VEVENT
UID:70647-20260317@newland-pc.gov.uk
DTSTAMP:20260423T083653Z
DTSTART;VALUE=DATE:20260317
DTEND;VALUE=DATE:20260318
SUMMARY:Parish Council Meeting
DESCRIPTION:Full Council Meeting\nView details: https://newland-pc.gov.uk/meetings/parish-council-meeting/
URL:https://newland-pc.gov.uk/meetings/parish-council-meeting/
END:VEVENT
END:VCALENDAR
