BEGIN:VCALENDAR
VERSION:2.0
PRODID:-//Newland Parish Council//Meeting Calendar//EN
CALSCALE:GREGORIAN
METHOD:PUBLISH
BEGIN:VEVENT
UID:70649-20260323@newland-pc.gov.uk
DTSTAMP:20260423T101201Z
DTSTART;VALUE=DATE:20260323
DTEND;VALUE=DATE:20260324
SUMMARY:Agenda 23/03/2026
DESCRIPTION:Full Council Meeting\nView details: https://newland-pc.gov.uk/meetings/agenda-23-03-2026/
URL:https://newland-pc.gov.uk/meetings/agenda-23-03-2026/
END:VEVENT
END:VCALENDAR
